BEGIN:VCALENDAR
VERSION:2.0
PRODID:-//Project Management Training And Consultation - ECPv6.15.20//NONSGML v1.0//EN
CALSCALE:GREGORIAN
METHOD:PUBLISH
X-WR-CALNAME:Project Management Training And Consultation
X-ORIGINAL-URL:https://pmobytes.com
X-WR-CALDESC:Events for Project Management Training And Consultation
REFRESH-INTERVAL;VALUE=DURATION:PT1H
X-Robots-Tag:noindex
X-PUBLISHED-TTL:PT1H
BEGIN:VTIMEZONE
TZID:Asia/Qatar
BEGIN:STANDARD
TZOFFSETFROM:+0300
TZOFFSETTO:+0300
TZNAME:+03
DTSTART:20230101T000000
END:STANDARD
END:VTIMEZONE
BEGIN:VEVENT
DTSTART;TZID=Asia/Qatar:20240120T090000
DTEND;TZID=Asia/Qatar:20240120T110000
DTSTAMP:20260424T193648
CREATED:20240102T121249Z
LAST-MODIFIED:20240102T121249Z
UID:10772-1705741200-1705748400@pmobytes.com
SUMMARY:PROJECT MANAGEMENT PROFESSIONAL (PMP)® Batch 1 2024
DESCRIPTION:PROJECT MANAGEMENT PROFESSIONAL (PMP): Batch 1 2024
URL:https://pmobytes.com/event/pmp/
CATEGORIES:PMP
ATTACH;FMTTYPE=image/png:https://pmobytes.com/wp-content/uploads/2024/01/PMI1115-ATP-Badge-2024-rgb-2.png
END:VEVENT
BEGIN:VEVENT
DTSTART;TZID=Asia/Qatar:20240203T120000
DTEND;TZID=Asia/Qatar:20240203T140000
DTSTAMP:20260424T193648
CREATED:20240103T054428Z
LAST-MODIFIED:20240103T054428Z
UID:10812-1706961600-1706968800@pmobytes.com
SUMMARY:ITIL4 Foundation Offline
DESCRIPTION:ITIL4 Foundation Offline
URL:https://pmobytes.com/event/itil4-foundation-offline/
CATEGORIES:ITIL4 Foundation
ATTACH;FMTTYPE=image/png:https://pmobytes.com/wp-content/uploads/2024/01/ITIL_ATO-logo-e1585659760497-768x319-2-2.png
END:VEVENT
BEGIN:VEVENT
DTSTART;TZID=Asia/Qatar:20240120T090000
DTEND;TZID=Asia/Qatar:20240120T110000
DTSTAMP:20260424T193648
CREATED:20240102T121249Z
LAST-MODIFIED:20240102T121249Z
UID:10772-1705741200-1705748400@pmobytes.com
SUMMARY:PROJECT MANAGEMENT PROFESSIONAL (PMP)® Batch 1 2024
DESCRIPTION:PROJECT MANAGEMENT PROFESSIONAL (PMP): Batch 1 2024
URL:https://pmobytes.com/event/pmp/
CATEGORIES:PMP
ATTACH;FMTTYPE=image/png:https://pmobytes.com/wp-content/uploads/2024/01/PMI1115-ATP-Badge-2024-rgb-2.png
END:VEVENT
BEGIN:VEVENT
DTSTART;TZID=Asia/Qatar:20240203T120000
DTEND;TZID=Asia/Qatar:20240203T140000
DTSTAMP:20260424T193648
CREATED:20240103T054428Z
LAST-MODIFIED:20240103T054428Z
UID:10812-1706961600-1706968800@pmobytes.com
SUMMARY:ITIL4 Foundation Offline
DESCRIPTION:ITIL4 Foundation Offline
URL:https://pmobytes.com/event/itil4-foundation-offline/
CATEGORIES:ITIL4 Foundation
ATTACH;FMTTYPE=image/png:https://pmobytes.com/wp-content/uploads/2024/01/ITIL_ATO-logo-e1585659760497-768x319-2-2.png
END:VEVENT
BEGIN:VEVENT
DTSTART;TZID=Asia/Qatar:20240120T090000
DTEND;TZID=Asia/Qatar:20240120T110000
DTSTAMP:20260424T193648
CREATED:20240102T121249Z
LAST-MODIFIED:20240102T121249Z
UID:10772-1705741200-1705748400@pmobytes.com
SUMMARY:PROJECT MANAGEMENT PROFESSIONAL (PMP)® Batch 1 2024
DESCRIPTION:PROJECT MANAGEMENT PROFESSIONAL (PMP): Batch 1 2024
URL:https://pmobytes.com/event/pmp/
CATEGORIES:PMP
ATTACH;FMTTYPE=image/png:https://pmobytes.com/wp-content/uploads/2024/01/PMI1115-ATP-Badge-2024-rgb-2.png
END:VEVENT
BEGIN:VEVENT
DTSTART;TZID=Asia/Qatar:20240203T120000
DTEND;TZID=Asia/Qatar:20240203T140000
DTSTAMP:20260424T193648
CREATED:20240103T054428Z
LAST-MODIFIED:20240103T054428Z
UID:10812-1706961600-1706968800@pmobytes.com
SUMMARY:ITIL4 Foundation Offline
DESCRIPTION:ITIL4 Foundation Offline
URL:https://pmobytes.com/event/itil4-foundation-offline/
CATEGORIES:ITIL4 Foundation
ATTACH;FMTTYPE=image/png:https://pmobytes.com/wp-content/uploads/2024/01/ITIL_ATO-logo-e1585659760497-768x319-2-2.png
END:VEVENT
BEGIN:VEVENT
DTSTART;TZID=Asia/Qatar:20240220T073000
DTEND;TZID=Asia/Qatar:20240220T153000
DTSTAMP:20260424T193648
CREATED:20240206T080920Z
LAST-MODIFIED:20240206T080920Z
UID:12329-1708414200-1708443000@pmobytes.com
SUMMARY:ITIL4 Foundation Batch-2  2024 (2 days Training)
DESCRIPTION:ITIL4 Foundation Batch-2  2024 (2 days Training)
URL:https://pmobytes.com/event/itil4-foundation-batch-2-2024-2-days-training/
CATEGORIES:ITIL4,ITIL4 Foundation Batch-2 
ATTACH;FMTTYPE=image/png:https://pmobytes.com/wp-content/uploads/2024/01/ITIL_ATO-logo-e1585659760497-768x319-2-2.png
END:VEVENT
BEGIN:VEVENT
DTSTART;TZID=Asia/Qatar:20240220T073000
DTEND;TZID=Asia/Qatar:20240220T153000
DTSTAMP:20260424T193648
CREATED:20240206T080920Z
LAST-MODIFIED:20240206T080920Z
UID:12329-1708414200-1708443000@pmobytes.com
SUMMARY:ITIL4 Foundation Batch-2  2024 (2 days Training)
DESCRIPTION:ITIL4 Foundation Batch-2  2024 (2 days Training)
URL:https://pmobytes.com/event/itil4-foundation-batch-2-2024-2-days-training/
CATEGORIES:ITIL4,ITIL4 Foundation Batch-2 
ATTACH;FMTTYPE=image/png:https://pmobytes.com/wp-content/uploads/2024/01/ITIL_ATO-logo-e1585659760497-768x319-2-2.png
END:VEVENT
BEGIN:VEVENT
DTSTART;TZID=Asia/Qatar:20240120T090000
DTEND;TZID=Asia/Qatar:20240120T110000
DTSTAMP:20260424T193648
CREATED:20240102T121249Z
LAST-MODIFIED:20240102T121249Z
UID:10772-1705741200-1705748400@pmobytes.com
SUMMARY:PROJECT MANAGEMENT PROFESSIONAL (PMP)® Batch 1 2024
DESCRIPTION:PROJECT MANAGEMENT PROFESSIONAL (PMP): Batch 1 2024
URL:https://pmobytes.com/event/pmp/
CATEGORIES:PMP
ATTACH;FMTTYPE=image/png:https://pmobytes.com/wp-content/uploads/2024/01/PMI1115-ATP-Badge-2024-rgb-2.png
END:VEVENT
END:VCALENDAR