BEGIN:VCALENDAR
VERSION:2.0
PRODID:-//Project Management Training And Consultation - ECPv6.15.20//NONSGML v1.0//EN
CALSCALE:GREGORIAN
METHOD:PUBLISH
X-WR-CALNAME:Project Management Training And Consultation
X-ORIGINAL-URL:https://pmobytes.com
X-WR-CALDESC:Events for Project Management Training And Consultation
REFRESH-INTERVAL;VALUE=DURATION:PT1H
X-Robots-Tag:noindex
X-PUBLISHED-TTL:PT1H
BEGIN:VTIMEZONE
TZID:Asia/Qatar
BEGIN:STANDARD
TZOFFSETFROM:+0300
TZOFFSETTO:+0300
TZNAME:+03
DTSTART:20230101T000000
END:STANDARD
END:VTIMEZONE
BEGIN:VEVENT
DTSTART;TZID=Asia/Qatar:20240114T100000
DTEND;TZID=Asia/Qatar:20240114T173000
DTSTAMP:20260423T043417
CREATED:20240104T111800Z
LAST-MODIFIED:20240104T111800Z
UID:11062-1705226400-1705253400@pmobytes.com
SUMMARY:ITIL® 4 PM Problem Management
DESCRIPTION:ITIL® 4 PM Problem Management
URL:https://pmobytes.com/event/itil-4-pm-problem-management/
CATEGORIES:ITIL® 4 PM Problem Management
END:VEVENT
END:VCALENDAR